BEGIN:VCALENDAR
VERSION:2.0
PRODID:-//Solrød Gymnasium - ECPv6.6.2//NONSGML v1.0//EN
CALSCALE:GREGORIAN
METHOD:PUBLISH
X-ORIGINAL-URL:https://solrodbook.awork20.dk
X-WR-CALDESC:Begivenheder for Solrød Gymnasium
REFRESH-INTERVAL;VALUE=DURATION:PT1H
X-Robots-Tag:noindex
X-PUBLISHED-TTL:PT1H
BEGIN:VTIMEZONE
TZID:Europe/Copenhagen
BEGIN:DAYLIGHT
TZOFFSETFROM:+0100
TZOFFSETTO:+0200
TZNAME:CEST
DTSTART:20250330T010000
END:DAYLIGHT
BEGIN:STANDARD
TZOFFSETFROM:+0200
TZOFFSETTO:+0100
TZNAME:CET
DTSTART:20251026T010000
END:STANDARD
END:VTIMEZONE
BEGIN:VEVENT
DTSTART;TZID=Europe/Copenhagen:20250206T100000
DTEND;TZID=Europe/Copenhagen:20250206T141500
DTSTAMP:20260423T164907
CREATED:20240620T091218Z
LAST-MODIFIED:20241203T092354Z
UID:10000002-1738836000-1738851300@solrodbook.awork20.dk
SUMMARY:Besøgsdag 6. februar 2025
DESCRIPTION:Vi glæder os til at møde dig! \nJeres vært Mette tager imod jer kl. 10 sharp ved hovedindgangen ( ved siden af Solrød Biblioteks indgang fra centeret). \nDet får du med dig hjem: \n\n\n\nSG-elever fortæller om det faglige og sociale fællesskab\nI får prøvet lidt gymnasieundervisning\, som den er i virkeligheden.\nEt par lærere giver facts om STX-studieretninger og HF-fagpakker\nI oplever vores helt særlige elevvenlige skoleskema.\nStudievejleder Dorthe svarer på alverdens spørgsmål\nJeres vært\, Mette\, guider jer trygt gennem hele dagen\nI får et fremmødebevis\, som kan gives til jeres grundskole\n\n\n\nHusk at melde afbud på post@solgym.dk\, hvis du ikke kommer. Udebliver du uden afbud\, vil du eller din skole blive kontaktet. Du modtager fremmødebevis til din skole\, når dagen lakker mod enden. Vi glæder os meget til at vise dig vores sted – og vi giver frokosten.
URL:https://solrodbook.awork20.dk/event/besoegsdag-2-oktober-2024/
END:VEVENT
BEGIN:VEVENT
DTSTART;TZID=Europe/Copenhagen:20250109T100000
DTEND;TZID=Europe/Copenhagen:20250109T141500
DTSTAMP:20260423T164907
CREATED:20240828T083455Z
LAST-MODIFIED:20241203T092249Z
UID:10000003-1736416800-1736432100@solrodbook.awork20.dk
SUMMARY:Besøgsdag 9. januar 2025
DESCRIPTION:Vi glæder os til at møde dig! \nJeres vært Mette tager imod jer kl. 10 sharp ved hovedindgangen ( ved siden af Solrød Biblioteks indgang fra centeret). \nDet får du med dig hjem: \n\n\n \n\nSG-elever fortæller om det faglige og sociale fællesskab\nI får prøvet lidt gymnasieundervisning\, som den er i virkeligheden.\nEt par lærere giver facts om STX-studieretninger og HF-fagpakker\nI oplever vores helt særlige elevvenlige skoleskema.\nStudievejleder Dorthe svarer på alverdens spørgsmål\nJeres vært\, Mette\, guider jer trygt gennem hele dagen\nI får et fremmødebevis\, som kan gives til jeres grundskole\n\n\n\nHusk at melde afbud på post@solgym.dk\, hvis du ikke kommer. Udebliver du uden afbud\, vil du eller din skole blive kontaktet. Du modtager fremmødebevis til din skole\, når dagen lakker mod enden. Vi glæder os meget til at vise dig vores sted – og vi giver frokosten.
URL:https://solrodbook.awork20.dk/event/besoegsdag-7-oktober-2024/
END:VEVENT
END:VCALENDAR